BEGIN:VCALENDAR
VERSION:2.0
PRODID:-//Zen e Funambolismo - ECPv6.0.3//NONSGML v1.0//EN
CALSCALE:GREGORIAN
METHOD:PUBLISH
X-ORIGINAL-URL:https://ilfunambolo.com
X-WR-CALDESC:Eventi per Zen e Funambolismo
REFRESH-INTERVAL;VALUE=DURATION:PT1H
X-Robots-Tag:noindex
X-PUBLISHED-TTL:PT1H
BEGIN:VTIMEZONE
TZID:Europe/Rome
BEGIN:DAYLIGHT
TZOFFSETFROM:+0100
TZOFFSETTO:+0200
TZNAME:CEST
DTSTART:20220327T010000
END:DAYLIGHT
BEGIN:STANDARD
TZOFFSETFROM:+0200
TZOFFSETTO:+0100
TZNAME:CET
DTSTART:20221030T010000
END:STANDARD
END:VTIMEZONE
BEGIN:VEVENT
DTSTART;TZID=Europe/Rome:20220403T100000
DTEND;TZID=Europe/Rome:20220403T170000
DTSTAMP:20260420T122022
CREATED:20220218T134853Z
LAST-MODIFIED:20220218T134853Z
UID:12574-1648980000-1649005200@ilfunambolo.com
SUMMARY:Laboratori di funambolismo a Druento
DESCRIPTION:Nuovo appuntamento con i laboratori di funambolismo condotti da Andrea Loreni. Un’occasione per approfondire la postura del funambolo sul cavo e nei suoi significati oltre il cavo.  La location che ospita i laboratori è la splendida Cascina Cortese a Druento\, immersa nel verde\, e che già aveva ospitato i laboratori del funambolo. \nFirst Bite\, 3 aprile \nUna giornata di assaggio del cavo\, condotta dal funambolo Andrea Loreni.  \nIl laboratorio si rivolge a chi si vuole avvicinare\, con o senza bilanciere\, alle camminate su cavo o slackline.  Può essere una prova per chi non ha mai camminato su cavo o un allenamento in vista del lavoro più intenso del week-end del 7 e 8 maggio per chi invece già pratica o ha già seguito laboratori in passato.  \nInoltre\, per chi ha già fatto almeno un laboratorio in passato e si iscrive alla due giorni di fine maggio\, c’è l’opportunità\, il giorno 3\, di un pomeriggio di allenamento libero. \nCosti \n\nlaboratorio: 80 euro incluso di laboratorio\, utilizzo della struttura ricettiva e del materiale tecnico\, pranzo rustico (focaccia\, pizza o panini); \nper il pernottamento in loco la sera prima o quella dopo è possibile contattare direttamente Cascina Cortese.\n\nDate e orari \n3 aprile ore 10-13 e 14-17 \nTermine ultimo per l’iscrizione: 25 marzo \n  \nInfo e Iscrizioni:\nwirescrosseditalia@ilfunambolo.com \nRecapiti B&B Cascina Cortese per prenotazione: cascinacortese29@gmail.com – 328 123 7015
URL:https://ilfunambolo.com/evento/laboratori-di-funambolismo-a-druento-2/
LOCATION:Druento
CATEGORIES:Eventi
ATTACH;FMTTYPE=image/jpeg:https://ilfunambolo.com/wp-content/uploads/2022/02/lab-druento.jpg
END:VEVENT
END:VCALENDAR