BEGIN:VCALENDAR
VERSION:2.0
PRODID:-//Zen e Funambolismo - ECPv6.0.3//NONSGML v1.0//EN
CALSCALE:GREGORIAN
METHOD:PUBLISH
X-WR-CALNAME:Zen e Funambolismo
X-ORIGINAL-URL:https://ilfunambolo.com
X-WR-CALDESC:Eventi per Zen e Funambolismo
REFRESH-INTERVAL;VALUE=DURATION:PT1H
X-Robots-Tag:noindex
X-PUBLISHED-TTL:PT1H
BEGIN:VTIMEZONE
TZID:Europe/Rome
BEGIN:DAYLIGHT
TZOFFSETFROM:+0100
TZOFFSETTO:+0200
TZNAME:CEST
DTSTART:20210328T010000
END:DAYLIGHT
BEGIN:STANDARD
TZOFFSETFROM:+0200
TZOFFSETTO:+0100
TZNAME:CET
DTSTART:20211031T010000
END:STANDARD
END:VTIMEZONE
BEGIN:VEVENT
DTSTART;TZID=Europe/Rome:20210801T150000
DTEND;TZID=Europe/Rome:20210801T170000
DTSTAMP:20260421T013008
CREATED:20210721T080038Z
LAST-MODIFIED:20210721T080038Z
UID:9014-1627830000-1627837200@ilfunambolo.com
SUMMARY:La spettacolare traversata a Ceresole Reale per i 90 anni della diga di Iren
DESCRIPTION:Il funambolo Andrea Loreni camminerà sopra l’acqua su un cavo lungo più di 300 metri sospeso a 20 metri di altezza. L’appuntamento è per domenica 1 agosto\, dalle ore 15.00\, in occasione dei festeggiamenti dei 90 anni della diga di Ceresole Reale. \nPer celebrare la giornata\, Fondazione Cirko Vertigo – sotto la direzione artistica di Paolo Stratta – per Iren\, una delle principali multitutility italiane\, ha pensato una giornata di esibizioni mozzafiato\, in una cornice naturale unica\, nel pieno rispetto dell’ambiente circostante. \nLa diga oggetto delle celebrazioni\, collegata alla centrale di Rosone\, è finalizzata alla produzione idroelettrica in modo sostenibile da un punto di vista ambientale e nel pieno rispetto della natura circostante. Questo elemento accomuna tutti gli impianti che Iren gestisce in Valle Orco e che permettono alla multiutility di produrre energia in modo rinnovabile. La maggior parte di tali infrastrutture sono all’interno del Parco Nazionale del Gran Paradiso\, un’oasi protetta con la quale Iren ha da decenni sviluppato collaborazioni e sinergie per collaborare nella tutela e valorizzazione del territorio grazie ad una comunanza di valori e di obiettivi. \nCirko Vertigo ha chiamato a raccolta per l’occasione i migliori artisti del settore\, fra cui Andrea Loreni\, che sulla diga di Ceresole compirà la traversata più lunga della sua carriera\, camminando per 30 minuti circa su un cavo lungo più di 300 metri e sospeso a 20 metri di altezza. La lettura di testi poetici sulla storia della diga di Ceresole a cura di Fondazione Cirko Vertigo accompagnerà i passi del funambolo. \n“La traversata sulla diga di Ceresole Reale sarà la più lunga finora fatta da me: un nuovo inizio\, nuove tecniche di allestimento\, procedure rinnovate\, 320 metri di cavo inesplorati – racconta Andrea Loreni – Sarà la possibilità di osservare nuovi panorami interiori e scoprire altri aspetti di me; sarà  la possibilità di camminare attraverso ampi orizzonti esteriori e fondersi con una natura predominante. Sono curioso di vedere se saprò arrendermi a spazi così ampi\, perdermi in colori così forti e poi infine ritrovarmi dopo 320 metri”. \nIl programma della giornata \nOcchi rivolti verso l’alto già a partire dalle ore 15.00\, con la prima esibizione:  il volo di una gigantesca sfera volante gonfiata a gas elio cui sarà agganciata la danzatrice aerea e coreografa Valentina Ribaudo. L’artista danzerà sospesa a varie altezze: sfiorerà il pubblico presente per poi librarsi fino a 30 metri di quota trasportata dalla sfera di 6 metri di diametro\, percorrendo così l’intero coronamento della diga. \nIl pomeriggio di spettacolo continuerà con l’emozionante esibizione di cerchio aereo di Elisa Mutto\, acrobata e danzatrice nella compagnia blucinQue\, diretta da Caterina Mochi Sismondi\, che arriverà trasportata sull’acqua da una piccola imbarcazione che la condurrà fino a sotto il cavo del funambolo e qui sarà sollevata con il suo cerchio fino a 10 metri di altezza. Proprio Elisa richiamerà il funambolo Andrea Loreni che partirà dal lato opposto dell’invaso attraversando l’intero specchio di acqua per raggiungere la sponda su cui vengono inaugurati gli spazi per le attività didattiche di Iren.
URL:https://ilfunambolo.com/evento/la-spettacolare-traversata-a-ceresole-reale-per-i-90-anni-della-diga-di-iren/
LOCATION:Ceresole Reale\, Italia
CATEGORIES:Eventi
ATTACH;FMTTYPE=image/jpeg:https://ilfunambolo.com/wp-content/uploads/2021/07/invito-iren.jpg
END:VEVENT
BEGIN:VEVENT
DTSTART;TZID=Europe/Rome:20210807T210000
DTEND;TZID=Europe/Rome:20210807T230000
DTSTAMP:20260421T013008
CREATED:20210723T081746Z
LAST-MODIFIED:20210723T081746Z
UID:9055-1628370000-1628377200@ilfunambolo.com
SUMMARY:Il funambolo ospite di San Marino Festival Gentile Change! Costruire il Cambiamento
DESCRIPTION:Andrea Loreni sarà ospite attesissimo del San Marino Festival Gentile\, nel Salotto di sabato 7 agosto alle ore 21 in Cava dei Balestrieri dal titolo “Della Musica e Dell’Equilibrio”. Il funambolo interverrà insieme al cantautore Tricarico\, il musicista e biologo cellulare Emiliano Toso\, la ballerina Beatrice Carbone\, l’attivista e attrice Rosita Celentano (madrina del festival) e l’autore e docente Daniel Lumera (direttore scientifico della manifestazione).  \nSAN MARINO FESTIVAL GENTILE\, in programma dal 6 all’8 agosto 2021 nelle location più suggestive del centro storico della Repubblica di San Marino\, declina in incontri con ospiti internazionali\, spettacoli e momenti esperienziali rivolti a tutte le età il tema della Gentilezza\, abbracciando vari settori della cultura e del sociale: dall’economia alla scienza\, dall’ambiente all’alimentazione\, dalla filosofia alla comunicazione\, dall’educazione all’impresa\, dalla salute alla giustizia\, dalla moda allo spettacolo. \nLa manifestazione\, alla sua prima edizione\, porta il sottotitolo “CHANGE! Costruire il cambiamento” a sottolineare come la gentilezza e i valori ad essa collegati\, quali felicità\, ottimismo\, perdono\, gratitudine\, siano reali motori di cambiamento capaci di generare un significativo impatto sociale\, a partire da comprovate evidenze scientifiche. \nTra i relatori in programma – oltre all’autore bestseller ed esperto di scienze del benessere Daniel Lumera e all’attivista\, conduttrice e attrice Rosita Celentano\, madrina d’eccezione dell’edizione 2021 del festival sammarinese – grandi nomi di fama internazionale\, a partire dalla scienziata e docente di Harvard Immaculata De Vivo\, fra le massime esperte al mondo nel settore dell’epidemiologia molecolare\, della genetica del cancro e nello studio dei telomeri. E ancora il neuroscienziato Giacomo Rizzolatti\, l’economista Giovanna Melandri\, il medico Franco Berrino\, il giornalista e scrittore Gian Antonio Stella\, il cantautore e artista visivo Tricarico\, il biologo e compositore a 432Hz Emiliano Toso\, la ballerina solista del Teatro alla Scala Beatrice Carbone\, lo storyteller Mick Odelli\, il giornalista e scrittore Stefano Davide Bettera\, il regista\, autore e produttore Thomas Torelli\, il coordinatore nazionale di Sea Shepherd Italia Andrea Morello\, l’attivista per il clima di Fridays For Future Sofia Pasotto\, il campione del mondo di gelateria Eugenio Morrone\, e molti altri.  \nOltre agli incontri\, tutti gratuiti\, un articolato palinsesto di proposte esperienziali: yoga\, meditazione\, attivazioni bioenergetiche e danza gentile; camminate nella natura e proposte educative anche per i più piccini. Non mancano\, infine\, proposte artistiche e culturali come la mostra “Isabella Mandelli: Il mondo gentile dei Barabubbles” e lo spettacolo di balletto che vede protagonista la compagnia de Les Italiens de l’Opéra de Paris\, in cui la grande danza celebra la gentilezza con i primi ballerini e i solisti italiani dell’Opéra di Parigi. \nOrganizzato dall’Associazione UnonellUno presieduta dall’Avv. Maria Selva\, in collaborazione con l’Associazione My Life Design ONLUS e il team di progetto del movimento Italia Gentile\, nel pieno rispetto delle prescrizioni e delle misure di sicurezza per il contrasto alla pandemia\, San Marino Festival Gentile si pone in continuità con la proclamazione della Repubblica di San Marino primo Stato Gentile al mondo\, avvenuta lo scorso anno alla presenza di Daniel Lumera. \n\nPer informazioni e prenotazioni:  \nwww.sanmarinofestivalgentile.com | info@sanmarinofestivalgentile.com
URL:https://ilfunambolo.com/evento/il-funambolo-ospite-di-san-marino-festival-gentile-change-costruire-il-cambiamento/
LOCATION:San Marino\, Italia
CATEGORIES:Eventi
ATTACH;FMTTYPE=image/jpeg:https://ilfunambolo.com/wp-content/uploads/2021/07/san-marino-festival.jpg
END:VEVENT
BEGIN:VEVENT
DTSTART;TZID=Europe/Rome:20210808T223000
DTEND;TZID=Europe/Rome:20210808T233000
DTSTAMP:20260421T013008
CREATED:20210724T154337Z
LAST-MODIFIED:20210724T154337Z
UID:9086-1628461800-1628465400@ilfunambolo.com
SUMMARY:La traversata in notturna per Allegro con Brio\, sul Lago Maggiore
DESCRIPTION:Dopo il successo di pubblico raccolto durante le prime otto edizioni\, torna a Verbania\, sul Lago Maggiore\, la rassegna ALLEGRO CON BRIO. Dieci giorni\, dal 30 luglio\, di appuntamenti  culturali e con l’editoria\, tra musica\, spettacolo\, incontri con gli autori\, danza\, teatro e laboratori. \nUn cartellone molto variegato\, ricco di incontri capaci di divertire e di stimolare la curiosità\, alla scoperta di artisti e forme artistiche nuove e diverse. Un evento che in ogni singolo appuntamento invita a scoprire e riscoprire\, proprio grazie alla cultura\, le meraviglie del territorio del Verbano.   \nDomenica 8 agosto alle ore 22.30 tutti con lo sguardo verso l’alto per la traversata del funambolo Andrea Loreni.  Andrea camminerà su un cavo di dyneema  lungo 70 m\, inclinato da terra a 15 metri\, fino alla villa della biblioteca di fronte al lago. Una traversata in notturna\, spettacolare\, e i passi del funambolo saranno illuminati dalle luci sopra al suo bilancere. \nLibri\, musica e teatro\, la rassegna\, organizzata dalla Biblioteca Civica Ceretti e dal Comune di Verbania in collaborazione con l’Associazione 21 marzo\, dopo mesi di chiusura permetterà a grandi e bambini di tornare a ritrovarsi in platea e condividere emozioni\, prendendo parte fisicamente alle diverse iniziative nel pieno rispetto delle normative attualmente in vigore.  \n“La rassegna 2021 conferma la volontà espressa in questi anni di far crescere questo appuntamento che risulta ormai centrale nell’estate culturale verbanese – commenta l’Assessore alla Cultura Riccardo Brezza – Allegro con Brio è uno degli strumenti più interessanti per far vivere la nostra Biblioteca Civica al di fuori del proprio compito istituzionale\, mettendo in connessione la sua funzione tradizionale con linguaggi e forme artistiche diverse. Teatro\, musica\, danza e letteratura si fondono in un percorso che continua ad attrarre il pubblico verbanese e non solo”.  \nPer info \nwww.bibliotechevco.it \nhttps://www.facebook.com/AllegroconBriosulLagoMaggiore/ \nhttps://www.instagram.com/bibliotvb/
URL:https://ilfunambolo.com/evento/la-traversata-in-notturna-per-allegro-con-brio-sul-lago-maggiore/
LOCATION:Verbania\, Italia
CATEGORIES:Eventi
ATTACH;FMTTYPE=image/jpeg:https://ilfunambolo.com/wp-content/uploads/2021/07/allegro-con-brio.jpg
END:VEVENT
END:VCALENDAR