BEGIN:VCALENDAR
VERSION:2.0
PRODID:-//Zen e Funambolismo - ECPv6.0.3//NONSGML v1.0//EN
CALSCALE:GREGORIAN
METHOD:PUBLISH
X-WR-CALNAME:Zen e Funambolismo
X-ORIGINAL-URL:https://ilfunambolo.com
X-WR-CALDESC:Eventi per Zen e Funambolismo
REFRESH-INTERVAL;VALUE=DURATION:PT1H
X-Robots-Tag:noindex
X-PUBLISHED-TTL:PT1H
BEGIN:VTIMEZONE
TZID:Europe/Rome
BEGIN:DAYLIGHT
TZOFFSETFROM:+0100
TZOFFSETTO:+0200
TZNAME:CEST
DTSTART:20210328T010000
END:DAYLIGHT
BEGIN:STANDARD
TZOFFSETFROM:+0200
TZOFFSETTO:+0100
TZNAME:CET
DTSTART:20211031T010000
END:STANDARD
END:VTIMEZONE
BEGIN:VEVENT
DTSTART;TZID=Europe/Rome:20210506T180000
DTEND;TZID=Europe/Rome:20210506T193000
DTSTAMP:20260421T081838
CREATED:20210503T081321Z
LAST-MODIFIED:20210503T081321Z
UID:8139-1620324000-1620329400@ilfunambolo.com
SUMMARY:L'esperienza del vuoto. Accogliere per comprendere: il talk di Andrea Loreni per Learning Machine
DESCRIPTION:Il 6 maggio alle ore 18 il funambolo Andrea Loreni sarà ospite di Learning Machine\, progetto pilota di BASE Milano\, pensato e voluto per sperimentare nuove forme di apprendimento.All’interno di Playground\, il public program di BASE\, Andrea Loreni esplora gli aspetti più trasversali del funambolismo\, strumento non solamente performativo ma anche trasformativo\, utilizzabile come percorso di crescita e trasformazione personale. \n\n\nAscoltare il corpo ci porta nel qui e ora. Attraverso le nostre sensazioni entriamo in contatto diretto col reale\, fino a sentire la connessione che ci lega al contesto in cui siamo immersi. Il corpo ci permette un accesso diverso al mondo\, una nuova via di comprensione. Lo fa senza i filtri della ragione e della concettualizzazione\, che separano soggetto e oggetto\, che dividono e categorizzano fino a farci perdere il senso di unità. Ipersemplificando impoveriscono il reale e il nostro ruolo in esso.\nNel vuoto sotto il cavo c’è  la possibilità di accogliere e comprendere immediatamente\, senza filtri\, senza elaborazioni\, e sentire nuovamente che siamo connessi con ciò che ci circonda: siamo una goccia di questa realtà liquida. L’invito non è a allontanarci per conoscere; piuttosto è abbandonarci per esperire.\n\n\nIl talk si apre con una meditazione guidata di 15 minuti. Si invita il pubblico a preparare e tenere pronta una tazza di the caldo e a vestirvi comodi. \nE’ possibile seguire la diretta sulla pagina Facebook di BASE. \nPer info: https://base.milano.it/events/playground-talk-9-lesperienza-del-vuoto/
URL:https://ilfunambolo.com/evento/lesperienza-del-vuoto-accogliere-per-comprendere-il-talk-di-andrea-loreni-per-learning-machine/
LOCATION:online
CATEGORIES:Eventi
ATTACH;FMTTYPE=image/png:https://ilfunambolo.com/wp-content/uploads/2021/05/funambolo6mag2021.png
END:VEVENT
BEGIN:VEVENT
DTSTART;TZID=Europe/Rome:20210509T100000
DTEND;TZID=Europe/Rome:20210509T170000
DTSTAMP:20260421T081838
CREATED:20210412T083959Z
LAST-MODIFIED:20210412T084254Z
UID:7971-1620554400-1620579600@ilfunambolo.com
SUMMARY:Laboratori di funambolismo a Druento - First bite
DESCRIPTION:Tutte le info qui: \nhttps://ilfunambolo.com/riprendono-i-laboratori-di-funambolismo-a-druento/
URL:https://ilfunambolo.com/evento/laboratori-di-funambolismo-a-druento/
LOCATION:Druento
CATEGORIES:Eventi
ATTACH;FMTTYPE=image/jpeg:https://ilfunambolo.com/wp-content/uploads/2021/04/card.jpg
END:VEVENT
BEGIN:VEVENT
DTSTART;TZID=Europe/Rome:20210529T100000
DTEND;TZID=Europe/Rome:20210530T170000
DTSTAMP:20260421T081838
CREATED:20210412T084131Z
LAST-MODIFIED:20210412T084327Z
UID:7973-1622282400-1622394000@ilfunambolo.com
SUMMARY:Laboratori di funambolismo a Druento - Full immersion
DESCRIPTION:Tutte le info qui: \nhttps://ilfunambolo.com/riprendono-i-laboratori-di-funambolismo-a-druento/ \n 
URL:https://ilfunambolo.com/evento/7973/
LOCATION:Druento
CATEGORIES:Eventi
ATTACH;FMTTYPE=image/jpeg:https://ilfunambolo.com/wp-content/uploads/2021/04/card.jpg
END:VEVENT
END:VCALENDAR