BEGIN:VCALENDAR
VERSION:2.0
PRODID:-//Zen e Funambolismo - ECPv6.0.3//NONSGML v1.0//EN
CALSCALE:GREGORIAN
METHOD:PUBLISH
X-WR-CALNAME:Zen e Funambolismo
X-ORIGINAL-URL:https://ilfunambolo.com/?lang=en
X-WR-CALDESC:Events for Zen e Funambolismo
REFRESH-INTERVAL;VALUE=DURATION:PT1H
X-Robots-Tag:noindex
X-PUBLISHED-TTL:PT1H
BEGIN:VTIMEZONE
TZID:Europe/Rome
BEGIN:DAYLIGHT
TZOFFSETFROM:+0100
TZOFFSETTO:+0200
TZNAME:CEST
DTSTART:20220327T010000
END:DAYLIGHT
BEGIN:STANDARD
TZOFFSETFROM:+0200
TZOFFSETTO:+0100
TZNAME:CET
DTSTART:20221030T010000
END:STANDARD
END:VTIMEZONE
BEGIN:VEVENT
DTSTART;TZID=Europe/Rome:20220716T133000
DTEND;TZID=Europe/Rome:20220716T183000
DTSTAMP:20260422T095652
CREATED:20220706T155323Z
LAST-MODIFIED:20220706T155422Z
UID:16094-1657978200-1657996200@ilfunambolo.com
SUMMARY:Traversata collettiva di Galway
DESCRIPTION:Appuntamento incredibile il 16 luglio per una traversata collettiva lunga cinque ore. Andrea Loreni sarà presente a Galway con i suoi allievi\, unico gruppo dall’Italia. \n\n\n\nLifeLine è il più grande spettacolo di funambolismo d’Europa. In programma la traversata sul fiume Corrib eseguita da 3 professionisti europei\, e una traversata collettiva sul bacino di Claddagh nella città di Galway. In scena Andrea Loreni insieme a Oliver Zimmerman e Ellis Grover su 3 cavi che attraversano il fiume e 150 persone tra studenti e community\, di ogni età e provenienza\, che attraverseranno il bacino. Alla traversata collettiva partecipano anche due allievi di Andrea\, unici italiani. \n\n\n\nUna straordinaria dimostrazione di forza e resilienza\, di collaborazione e condivisione\, su uno dei corsi d’acqua più iconici d’Irlanda. \n\n\n\n“Questa traversata ha un altro significato\, che va oltre l’impresa. Vuole risignificare un luogo\, quello del ponte sul fiume di Galway\, famoso per l’elevato numero di suicidi. Quindi il vuoto di questa traversata\, carico della negatività della caduta e della perdita\, diventa con questo atto funambolico condiviso un vuoto e un attraversamento di rinascita e rinnovamento”. \n\n\n\nLifeLine si svolgerà presso il Claddagh Basin nella città di Galway il 16 luglio 2022\, dalle 13:30 alle 18:30. \n\n\n\nLifeLine fa anche parte del programma del Galway International Arts Festival 2022. \n\n\n\nPer avere info e seguire l’evento: \n\n\n\nwww.galwaycommunitycircus.com/lifeline/lifeline \n\n\n\nFacebook: @GalwayCommunityCircus \n\n\n\nInstagram: @galwaycircus \n\n\n\nTwitter: @galwaycircus \n\n\n\nLinkedIn: https://www.linkedin.com/company/galway-community-circus
URL:https://ilfunambolo.com/evento/traversata-collettiva-di-galway/?lang=en
LOCATION:Galway\, Irlanda
CATEGORIES:Events
ATTACH;FMTTYPE=image/jpeg:https://ilfunambolo.com/wp-content/uploads/2022/07/galway.jpg
END:VEVENT
BEGIN:VEVENT
DTSTART;TZID=Europe/Rome:20220703T180000
DTEND;TZID=Europe/Rome:20220703T200000
DTSTAMP:20260422T095652
CREATED:20220609T161356Z
LAST-MODIFIED:20220609T161356Z
UID:15678-1656871200-1656878400@ilfunambolo.com
SUMMARY:NICE FESTIVAL A CHIERI: il 3 luglio omaggio a Don Bosco
DESCRIPTION:Il centro storico della città di Chieri\, in provincia di Torino\, si prepara ad accogliere tre intense giornate di circo contemporaneo con il Nice festival\, in programma il 25 e 26 giugno e il 3 luglio.  \nIl pubblico può assistere a 10 differenti spettacoli\, tutti a ingresso gratuito\, per un totale di 14 repliche\, cui si aggiungono 3 appuntamenti con l’installazione di ferro e libri vecchi dal titolo La Dinamica del Controvento.  \nFil rouge di questa prima edizione: la musica. \nTantissimi gli appuntamenti della kermesse\, per le famiglie\, gli appassionati e i sognatori.  \nPer il giorno di chiusura\, il 3 luglio\, alle ore 18 tutti con il naso all’insù per la camminata su filo teso che Andrea Loreni compie in piazza Cavour in omaggio alla figura di Don Bosco\, anche lui equilibrista. Andrea percorre 70 metri di cavo d’acciaio\, ad un’altezza media di 25 metri dal suolo: il tutto reso più complicato dall’inclinazione del cavo.  \nInfo e programma completo su www.blucinque.it
URL:https://ilfunambolo.com/evento/nice-festival-a-chieri-il-3-luglio-omaggio-a-don-bosco/?lang=en
LOCATION:Chieri
CATEGORIES:Events
ATTACH;FMTTYPE=image/jpeg:https://ilfunambolo.com/wp-content/uploads/2022/06/niceFestival_cover_3_2-1-1.jpg
END:VEVENT
BEGIN:VEVENT
DTSTART;TZID=Europe/Rome:20220601T143000
DTEND;TZID=Europe/Rome:20220601T173000
DTSTAMP:20260422T095652
CREATED:20220401T161528Z
LAST-MODIFIED:20220401T161528Z
UID:14232-1654093800-1654104600@ilfunambolo.com
SUMMARY:Arti e Periferie
DESCRIPTION:Andrea è ospite di ARTI E PERIFERIE\, un progetto integrato che vede tre convegni per conoscere esperienze d’arte in contesti di confine\, e per riflettere sui loro molteplici significati. L’appuntamento con Andrea è il terzo dei tre\, l’1 giugno\, da seguire in presenza presso l’Università degli Studi di Milano Bicocca o in remoto. Ma non solo\, il progetto prevede anche una serie di eventi collaterali\, organizzati da enti amici della rassegna\, impegnati da sempre nell’utilizzo dei linguaggi dell’arte nelle periferie delle città\, ai confini delle regioni e degli stati\, nelle zone marginali della società. \nIl programma \nMercoledì 6 aprile 2022 – dalle 14:30 alle 17:30 \nAULA MARIO MARTINI — EDIFICIO U6-4 \nLE ARTI E LE PERIFERIE URBANE: Arti di Strada e di Quartiere \nIl viaggio inizia alla scoperta di emergenze artistiche che si sviluppano ai margini dei quartieri e nelle frange\, nelle fessure\, nelle soglie della contemporaneità metropolitana. Soglie talvolta fisiche\, geografiche\, topografiche; altre volte sociali\, culturali\, immaginali. Alla ricerca dei valori\, dei significati\, delle possibili implicazioni e connessioni che queste forme d’arte possono attivare nei contesti urbani. \nMercoledì 4 maggio 2022 – dalle 14:30 alle 17:30 \nAULA MARIO MARTIN I — EDIFICIO U6-4 \nARTI E TERRITORI DI CONFINE: Artisti e Forme d’Arte tra cultura e natura \nIl percorso prosegue oltre il punto in cui finiscono le case e iniziano i confini della città\, per arrivare dove finiscono le case e inizia la natura\, lambiente\, gli ecosistemi. Anche qui nascono espressioni artistiche; anche qui l’urgenza di senso interpella la creatività per generare narrazioni\, poetiche\, discorsi\, simboli. \nMercoledì 1 giugno 2022 – dalle 14:30 alle 17:30 \nAULA LUISELLA SIRONI – EDIFICIO U4-8 \nINCONTRI AL CONFINE: periferie e margini tra arti e umanità \nIn chiusura del percorso\, vengono rilanciate questioni aperte relative al rapporto tra il confine\, la periferia\, la marginalità\, il limite\, intesi nelle loro diverse forme — urbanistiche e naturalistiche\, sociali e culturali\, personali e collettive —\, da una parte\, e\, dall’altra\, le potenzialità delle forme d’arte di creare senso e valore\, di generare legami e coesione\, di tessere l’esperienza umana\, nel suo rapporto con i luoghi\, il territorio\, i contesti di vita\, nella sue dimensioni individuali e collettive. \nQui il link per iscriversi – https://forms.gle/YwPJVStTgCWoVLaW7 disponibile anche in forma semplice – www.bit.ly/artieperiferie_bicocca 
URL:https://ilfunambolo.com/evento/arti-e-periferie/?lang=en
LOCATION:Università degli Studi di Milano Bicocca
ATTACH;FMTTYPE=image/jpeg:https://ilfunambolo.com/wp-content/uploads/2022/04/VOLANTINO_Arti-e-Periferie1.jpg
END:VEVENT
BEGIN:VEVENT
DTSTART;TZID=Europe/Rome:20220528T140000
DTEND;TZID=Europe/Rome:20220528T200000
DTSTAMP:20260422T095652
CREATED:20220428T124603Z
LAST-MODIFIED:20220428T124718Z
UID:14128-1653746400-1653768000@ilfunambolo.com
SUMMARY:Book immersion:  Sette passi sul cavo con Andrea Loreni
DESCRIPTION:“Sette passi sul cavo” è il laboratorio di funambolismo con Andrea Loreni e Claudia Conti\, all’interno dell’evento Borgate dal vivo a Vaie. Un’esperienza di Book immersion sulle parole del libro “Breve corso di funambolismo per chi cammina col vento. Sette passi per attraversare la vita”\, edito da Mondadori. L’appuntamento è sabato 28 maggio ore 14 a Vaie (TO) in piazza Del Priore. In caso di maltempo l’evento si terrà nell’adiacente palestra comunale. \nPoche figure come quella del funambolo riverberano con altrettanta chiarezza d’immagine nella mente delle persone; e poche figure uniscono in una sola parola un’idea quasi impensabile da mettere in pratica e\, allo stesso tempo\, una sensazione profonda\, viscerale\, radicata nelle sensazioni vitali di un’epoca incerta\, in cui tutto pare in perenne ridiscussione\, in cui non esiste la libertà di fare affidamento su certezze che\, in qualunque momento\, possono andare in frantumi. In cui\, infine\, molti sentono sotto i propri piedi solo un cavo sottile\, e il rischio di cadere a ogni soffio di vento. \nAndrea Loreni ribalta questo concetto con il suo lavoro e le sue parole: l’incertezza data dall’equilibrio sul filo teso è in realtà una prospettiva nuova che spalanca sotto i piedi un paesaggio mai visto. Per sperimentare in prima persona l’equilibrio\, sul cavo e nella mente\, Andrea Loreni porta in Val di Susa un breve corso di funambolismo dal titolo “Sette passi sul cavo”. Lo organizza a Vaie\, nel cuore della bassa valle\, spazio dalla conformazione geografica lunga e stretta\, dove il vento soffia forte incanalato nel tunnel naturale tra i due versanti\, il progetto Book Immersion\, ideato da Revejo in collaborazione con il Sistema Bibliotecario Valle Susa e l’Unione Montana Valle Susa. \nSotto la sua guida\, il pubblico può immergersi nelle parole del libro e partecipare a un laboratorio di filo teso per ripercorrere i “sette passi” di cui parla Loreni. Durante il laboratorio esperienziale\, il cavo teso viene usato come strumento di esplorazione e consapevolezza. Con esercizi tratti dalla meditazione\, dal funambolismo e dalla ginnastica Bothmer\, viene allenata la postura psico-fisica del funambolo e vissuti i suoi riverberi interiori. Destrutturando le rigidità del corpo e della mente si può re-imparare a camminare e a relazionarsi con gli altri\, con lo spazio che circonda e con il cammino individuale di ciascuno. \nInsieme a Claudia Conti  \nDa più di vent’anni presente nel mondo dell’acrobatica aerea come artista e formatrice\, sta completando attualmente la formazione per insegnanti di ginnastica Bothmer (formazione al movimento basata sulla sintonia tra la figura umana e le dimensioni dello spazio praticata principalmente nelle scuole Waldorf). Tecnico Salute e Fitness di Acrobatica Aerea riconosciuto dalla F.G.I. \n  \nPer informazioni: \nSabato 28 maggio 2021\, ore 14:00 \nVaie (TO)\, piazza Del Priore. In caso di maltempo l’evento si terrà nell’adiacente palestra comunale. \nPartecipazione al laboratorio (per un massimo di 30 iscritti): 10 euro \ninfo@borgatedalvivo.it \nhttp://www.borgatedalvivo.it/ \n 
URL:https://ilfunambolo.com/evento/14123/?lang=en
LOCATION:Vaie
ATTACH;FMTTYPE=image/jpeg:https://ilfunambolo.com/wp-content/uploads/2022/04/funambolo_vaie1b.jpg
END:VEVENT
BEGIN:VEVENT
DTSTART;TZID=Europe/Rome:20220513T103000
DTEND;TZID=Europe/Rome:20220515T170000
DTSTAMP:20260422T095652
CREATED:20220420T100914Z
LAST-MODIFIED:20220420T100914Z
UID:14233-1652437800-1652634000@ilfunambolo.com
SUMMARY: L'Atomo in Equilibrio. Seminario intensivo di Danza Sufi
DESCRIPTION:Da venerdi 13 a domenica 15 maggio 2022 Nevio Vitali ritorna ad Assisi e Andrea Loreni sarà con lui per un percorso alchemico alla riscoperta del nostro intento Divino attraverso la Danza Sufi. Nevio Vitali ha ideato un metodo di insegnamento grazie al quale da anni porta la Danza Sacra in tutta Italia come metodo di lavoro e centratura nella quotidianità. Oggi si unisce alla meditazione e alla postura del funambolismo alla ricerca della libertà e dell’abbandono. \nIl seminario è adatto a coloro che sperimentano per la prima volta la Danza Sufi e a coloro che già la conoscono. Non è richiesta nessuna competenza dal mondo della danza e non ci sono limiti di età o di fede. \nObiettivi del corso \nDurante il corso si apprenderanno tecniche di respirazione che aiuteranno i partecipanti a entrare nel flusso di questa meditazione danzante e a concentrare gli intenti. Gli esercizi finali aiuteranno la comprensione e il riconoscimento dello stato di vibrazione raggiunto con questa pratica. \nGli obiettivi sono:\n– imparare la tecnica della Danza dei Dervisci rotanti\n– imparare a raggiungere e mantenere uno stato di equilibrio\n– gestire velocità ed equilibrio nella rotazione\n– vincere la vertigine ed il controllo della mente sul corpo\n– liberare le proprie energie e paure attraverso la danza\n– provare cosa significa essere un tutt’uno con il Creato e il Creatore\n– comprendere come applicare il decondizionamento nella vita quotidiana \n“Attraverso la Danza Sufi apriamo il canale di connessione tra Ispirazione Divina e Manifestazione Radicata\, rientrando in sincronia col volere dell’Universo”\, cit. Nevio Vitali. \nProgramma \nVenerdi 13 maggio\n10-30 – 11:00: accoglimento partecipanti e presentazione dell’ospite Andrea Loreni\n11:00 – 16:00: seminario di Danza Sufi\n16:00 – 17:00: meditazione finale per integrare il primo giorno di lavoro  \nSabato 14 maggio\n10:00 – 14:00: seminario con Andrea Loreni e le tecniche di equilibrio\n14:00 – 16:00: seminario di Danza Sufi\n16.00 – 17.00: meditazione finale per integrare il secondo giorno di lavoro \nDomenica 15 maggio  \n11:00 – 16:00: seminario di Danza Sufi\n16:00 – 17:00: meditazione finale e condivisione consapevolezze acquisite.\n17:00: rilascio Attestati di partecipazione. \nNevio Vitali \nFotografo e Artista\, da 8 anni sceglie di dedicarsi al cammino spirituale studiando e praticando diverse discipline dalle meditazioni dinamiche alle respirazioni\, rielaborandole per modellarle al concetto per lui basilare dell’ “Unicità di ciascuno di Noi”. Studioso e divulgatore della scienza Human Design\, Consulente AuraSoma\, Ipnologo Regressivo\, Lettura dei registri Akashici\, scopre la danza dei Dervisci Rotanti e si innamora della grazia e armonia trasmesse da questa pratica religiosa. Appassionato dal Sufismo e dalla Danza Sufi ne studia e pratica tutti gli aspetti di questa antica cerimonia frequentando corsi sia con Maestri provenienti dalla formazione religiosa dei Mevlevis che di puro stampo artistico provenienti dal mondo della danza.\nDeciso a divulgare la bellezza come forma di contemplazione e di unione col Divino\, accompagna chi decide di avvicinarsi alla danza dei Dervisci a connettersi col proprio divino attraverso la danza rotante che è espressione propria dell’Universo stesso. \nInfo e iscrizione \nIl Seminario si terrà in pieno centro storico ad Assisi.\nPer informazioni su costi e iscrizioni: Emilia tel. 3931553511 \nhttps://www.instagram.com/divinesufism/
URL:https://ilfunambolo.com/evento/latomo-in-equilibrio-seminario-intensivo-di-danza-sufi/?lang=en
LOCATION:Assisi\, Italia
ATTACH;FMTTYPE=image/jpeg:https://ilfunambolo.com/wp-content/uploads/2022/04/atomo-in-equilibrio.jpeg
END:VEVENT
BEGIN:VEVENT
DTSTART;TZID=Europe/Rome:20220507T100000
DTEND;TZID=Europe/Rome:20220508T170000
DTSTAMP:20260422T095652
CREATED:20220218T135033Z
LAST-MODIFIED:20220218T135033Z
UID:14234-1651917600-1652029200@ilfunambolo.com
SUMMARY:Laboratori di funambolismo a Druento
DESCRIPTION:Nuovo appuntamento con i laboratori di funambolismo condotti da Andrea Loreni. Un’occasione per approfondire la postura del funambolo sul cavo e nei suoi significati oltre il cavo.  La location che ospita i laboratori è la splendida Cascina Cortese a Druento\, immersa nel verde\, e che già aveva ospitato i laboratori del funambolo. \n  \nWeek end intensivo\, 7-8 maggio \nIl 7/8 maggio sono in programma due giorni di pratica intensiva di funambolismo\, con approfondimento sull’utilizzo del bilanciere e con la possibilità di camminare su un cavo lungo 70 metri e uno alto 2 metri con longia dall’alto. \nOltre all’allenamento fisico e alla performance\, l’obiettivo del laboratorio è anche quello di risignificare e rielaborare l’esperienza per fare della postura del funambolo uno strumento di crescita personale. \nIn occasione di questo laboratorio\, Andrea Loreni è affiancato da Claudia Conti\, formatrice regionale FGI (federazione acrobatica Italia) e specializzanda in Ginnastica Bothmer\, metodo elaborato dal conte Friz von Bothmer su richiesta di Rudolf Steiner per le scuole Waldorf. Si tratta di una formazione al movimento basata sulla sintonia tra la figura umana\, le sue funzionalità elementari e le dimensioni dello spazio\, che apre alla possibilità di una cooperazione tra fisicità\, spazialità e sfera spirituale. L’obiettivo è esplorare in modo armonico le tre dimensioni frontale\, sagittale ed orizzontale e le loro metamorfosi\, approfondendo la possibilità di acquisire equilibrio e sicurezza vitale nello spazio per poi trasferire questa sensibilità sul cavo. \nÈ possibile arrivare in struttura già venerdì 6 maggio dalle ore 17. Ad accogliere gli ospiti in serata è previsto un coinvolgente concerto di benvenuto. \nA chi si rivolge \nIl laboratorio si rivolge sia a chi ha già dimestichezza con il cavo e vuole approfondirne alcuni aspetti personali sia a chi vuole approcciarsi a questa disciplina per riportare le competenze acquisite in altri campi quali ad esempio sport\, lavoro\, arti performative. \nCosti  \n\nlaboratorio: 240€ incluso di laboratorio\, due pranzi\, utilizzo della struttura ricettiva e del materiale tecnico\, concerto del venerdì sera;\npernottamento in B&B con prima colazione: 30€ a notte (max 9 posti). Posto tenda/camper: 15€ a notte. Per prenotazioni contattare direttamente Cascina Cortese;\npasti: pranzo di sabato e domenica inclusi nell’iscrizione\, Venerdì cena condivisa vegetariana (ognuno porta qualcosa); per il sabato cena a domicilio alla carta;\ncolazione: bevanda calda e brioches a 2€ (da prenotare in anticipo);\n\nPACCHETTO EARLY BIRD: iscrizioni entro il 6 aprile : 220 euro invece che 240\, incluso di laboratorio\, due pranzi\, utilizzo della struttura ricettiva e del materiale tecnico\, concerto del venerdì sera. \nDate e orari \n7/8 maggio 2022 ore 10-12.30 e 14.30-17.00 \nTermine ultimo per l’iscrizione: 29 aprile \nInfo e Iscrizioni:\nwirescrosseditalia@ilfunambolo.com \nRecapiti B&B Cascina Cortese per prenotazione: cascinacortese29@gmail.com – 328 123 7015
URL:https://ilfunambolo.com/evento/laboratori-di-funambolismo-a-druento-3/?lang=en
LOCATION:Druento
ATTACH;FMTTYPE=image/jpeg:https://ilfunambolo.com/wp-content/uploads/2022/02/lab-druento.jpg
END:VEVENT
BEGIN:VEVENT
DTSTART;TZID=Europe/Rome:20220403T100000
DTEND;TZID=Europe/Rome:20220403T170000
DTSTAMP:20260422T095652
CREATED:20220218T134853Z
LAST-MODIFIED:20220218T134853Z
UID:14235-1648980000-1649005200@ilfunambolo.com
SUMMARY:Laboratori di funambolismo a Druento
DESCRIPTION:Nuovo appuntamento con i laboratori di funambolismo condotti da Andrea Loreni. Un’occasione per approfondire la postura del funambolo sul cavo e nei suoi significati oltre il cavo.  La location che ospita i laboratori è la splendida Cascina Cortese a Druento\, immersa nel verde\, e che già aveva ospitato i laboratori del funambolo. \nFirst Bite\, 3 aprile \nUna giornata di assaggio del cavo\, condotta dal funambolo Andrea Loreni.  \nIl laboratorio si rivolge a chi si vuole avvicinare\, con o senza bilanciere\, alle camminate su cavo o slackline.  Può essere una prova per chi non ha mai camminato su cavo o un allenamento in vista del lavoro più intenso del week-end del 7 e 8 maggio per chi invece già pratica o ha già seguito laboratori in passato.  \nInoltre\, per chi ha già fatto almeno un laboratorio in passato e si iscrive alla due giorni di fine maggio\, c’è l’opportunità\, il giorno 3\, di un pomeriggio di allenamento libero. \nCosti \n\nlaboratorio: 80 euro incluso di laboratorio\, utilizzo della struttura ricettiva e del materiale tecnico\, pranzo rustico (focaccia\, pizza o panini); \nper il pernottamento in loco la sera prima o quella dopo è possibile contattare direttamente Cascina Cortese.\n\nDate e orari \n3 aprile ore 10-13 e 14-17 \nTermine ultimo per l’iscrizione: 25 marzo \n  \nInfo e Iscrizioni:\nwirescrosseditalia@ilfunambolo.com \nRecapiti B&B Cascina Cortese per prenotazione: cascinacortese29@gmail.com – 328 123 7015
URL:https://ilfunambolo.com/evento/laboratori-di-funambolismo-a-druento-2/?lang=en
LOCATION:Druento
ATTACH;FMTTYPE=image/jpeg:https://ilfunambolo.com/wp-content/uploads/2022/02/lab-druento.jpg
END:VEVENT
END:VCALENDAR