BEGIN:VCALENDAR
VERSION:2.0
PRODID:-//Zen e Funambolismo - ECPv6.0.3//NONSGML v1.0//EN
CALSCALE:GREGORIAN
METHOD:PUBLISH
X-WR-CALNAME:Zen e Funambolismo
X-ORIGINAL-URL:https://ilfunambolo.com
X-WR-CALDESC:Eventi per Zen e Funambolismo
REFRESH-INTERVAL;VALUE=DURATION:PT1H
X-Robots-Tag:noindex
X-PUBLISHED-TTL:PT1H
BEGIN:VTIMEZONE
TZID:Europe/Rome
BEGIN:DAYLIGHT
TZOFFSETFROM:+0100
TZOFFSETTO:+0200
TZNAME:CEST
DTSTART:20200329T010000
END:DAYLIGHT
BEGIN:STANDARD
TZOFFSETFROM:+0200
TZOFFSETTO:+0100
TZNAME:CET
DTSTART:20201025T010000
END:STANDARD
END:VTIMEZONE
BEGIN:VEVENT
DTSTART;TZID=Europe/Rome:20200709T180000
DTEND;TZID=Europe/Rome:20200709T190000
DTSTAMP:20260420T025741
CREATED:20200625T093101Z
LAST-MODIFIED:20200625T093101Z
UID:4654-1594317600-1594321200@ilfunambolo.com
SUMMARY:Presentazione Libro Mondadori Salerno La Fabbrica\, in diretta FB
DESCRIPTION:In libreria dal 16 giugno\, il libro del funambolo Andrea Loreni edito da Mondadori dal titolo “Breve corso di funambolismo per chi cammina col vento. Sette passi per attraversare la vita”. \nPer Andrea Loreni il cavo è stato un maestro di vita che gli ha regalato uno sguardo nuovo su molti aspetti dell’esistenza. \nIn queste pagine Andrea prende per mano il lettore e lo accompagna sul cavo\, condividendo alcune delle lezioni che il funambolismo\, insieme alla pratica Zen\, gli ha insegnato. “Dove gli altri vedono due punti\, tu traccia una linea”\, “impara a stare scomodo”\, “fai del vuoto il tuo punto d’appoggio”: un breve corso di funambolismo\, anche esistenziale\, per ritrovare l’equilibrio nelle nostre vite complicate. \n“Questo libro è una guida per salire sul cavo\, lasciarsi sospingere dal vento e guardare giù. Non mi aspetto che lo facciate realmente\, non tutti almeno\, ma confido che nelle mie parole ognuno di voi possa trovare degli spunti utili anche in altri contesti. Salire lassù significa soprattutto cambiare prospettiva e guardare le cose da un altro punto di vista\, e questo è senza dubbio un principio di cui fare tesoro. Di più: il cavo vi aiuterà a capire che nella vita ogni punto di vista è unico\, e vi insegnerà a essere ben consapevoli della vostra prospettiva attuale e del fatto che qualunque essa sia ce n’è sicuramente un’altra.” \nAndrea presenta il suo libro: \n– il 25 giugno ore 18:30\, Mondadori Bologna\, in diretta FB \n– il 2 luglio ore 18\, Biblos Gallarate\, in diretta FB \n– il 9 luglio ore 18\, Mondadori Salerno La Fabbrica\, in diretta FB \nLink allo store \nhttps://www.mondadoristore.it/Breve-corso-funambolismo-chi-Andrea-Loreni-Lara-Giorcelli/eai978883570175/
URL:https://ilfunambolo.com/evento/presentazione-libro-mondadori-salerno-la-fabbrica-in-diretta-fb/
LOCATION:Mondadori Salerno La Fabbrica (Facebook)
CATEGORIES:Eventi
ATTACH;FMTTYPE=image/jpeg:https://ilfunambolo.com/wp-content/uploads/2020/06/cover_Loreni_Breve-corso-di-funambolismo.jpg
END:VEVENT
BEGIN:VEVENT
DTSTART;TZID=Europe/Rome:20200702T180000
DTEND;TZID=Europe/Rome:20200702T190000
DTSTAMP:20260420T025741
CREATED:20200625T092742Z
LAST-MODIFIED:20200625T092830Z
UID:4650-1593712800-1593716400@ilfunambolo.com
SUMMARY:Presentazione Libro Biblos Gallarate\, in diretta FB
DESCRIPTION:In libreria dal 16 giugno\, il libro del funambolo Andrea Loreni edito da Mondadori dal titolo “Breve corso di funambolismo per chi cammina col vento. Sette passi per attraversare la vita”. \nPer Andrea Loreni il cavo è stato un maestro di vita che gli ha regalato uno sguardo nuovo su molti aspetti dell’esistenza. \nIn queste pagine Andrea prende per mano il lettore e lo accompagna sul cavo\, condividendo alcune delle lezioni che il funambolismo\, insieme alla pratica Zen\, gli ha insegnato. “Dove gli altri vedono due punti\, tu traccia una linea”\, “impara a stare scomodo”\, “fai del vuoto il tuo punto d’appoggio”: un breve corso di funambolismo\, anche esistenziale\, per ritrovare l’equilibrio nelle nostre vite complicate. \n“Questo libro è una guida per salire sul cavo\, lasciarsi sospingere dal vento e guardare giù. Non mi aspetto che lo facciate realmente\, non tutti almeno\, ma confido che nelle mie parole ognuno di voi possa trovare degli spunti utili anche in altri contesti. Salire lassù significa soprattutto cambiare prospettiva e guardare le cose da un altro punto di vista\, e questo è senza dubbio un principio di cui fare tesoro. Di più: il cavo vi aiuterà a capire che nella vita ogni punto di vista è unico\, e vi insegnerà a essere ben consapevoli della vostra prospettiva attuale e del fatto che qualunque essa sia ce n’è sicuramente un’altra.” \nAndrea presenta il suo libro: \n– il 25 giugno ore 18:30\, Mondadori Bologna\, in diretta FB \n– il 2 luglio ore 18\, Biblos Gallarate\, in diretta FB \n– il 9 luglio ore 18\, Mondadori Salerno La Fabbrica\, in diretta FB \nLink allo store \nhttps://www.mondadoristore.it/Breve-corso-funambolismo-chi-Andrea-Loreni-Lara-Giorcelli/eai978883570175/
URL:https://ilfunambolo.com/evento/presentazione-libro-mondadori-bologna-in-diretta-fb-2/
LOCATION:Biblos Gallarate (Facebook)
CATEGORIES:Eventi
ATTACH;FMTTYPE=image/jpeg:https://ilfunambolo.com/wp-content/uploads/2020/06/cover_Loreni_Breve-corso-di-funambolismo.jpg
END:VEVENT
BEGIN:VEVENT
DTSTART;TZID=Europe/Rome:20200625T183000
DTEND;TZID=Europe/Rome:20200625T193000
DTSTAMP:20260420T025741
CREATED:20200625T092218Z
LAST-MODIFIED:20200625T092807Z
UID:4646-1593109800-1593113400@ilfunambolo.com
SUMMARY:Presentazione Libro Mondadori Bologna\, in diretta FB
DESCRIPTION:In libreria dal 16 giugno\, il libro del funambolo Andrea Loreni edito da Mondadori dal titolo “Breve corso di funambolismo per chi cammina col vento. Sette passi per attraversare la vita”. \nPer Andrea Loreni il cavo è stato un maestro di vita che gli ha regalato uno sguardo nuovo su molti aspetti dell’esistenza. \nIn queste pagine Andrea prende per mano il lettore e lo accompagna sul cavo\, condividendo alcune delle lezioni che il funambolismo\, insieme alla pratica Zen\, gli ha insegnato. “Dove gli altri vedono due punti\, tu traccia una linea”\, “impara a stare scomodo”\, “fai del vuoto il tuo punto d’appoggio”: un breve corso di funambolismo\, anche esistenziale\, per ritrovare l’equilibrio nelle nostre vite complicate. \n“Questo libro è una guida per salire sul cavo\, lasciarsi sospingere dal vento e guardare giù. Non mi aspetto che lo facciate realmente\, non tutti almeno\, ma confido che nelle mie parole ognuno di voi possa trovare degli spunti utili anche in altri contesti. Salire lassù significa soprattutto cambiare prospettiva e guardare le cose da un altro punto di vista\, e questo è senza dubbio un principio di cui fare tesoro. Di più: il cavo vi aiuterà a capire che nella vita ogni punto di vista è unico\, e vi insegnerà a essere ben consapevoli della vostra prospettiva attuale e del fatto che qualunque essa sia ce n’è sicuramente un’altra.” \nAndrea presenta il suo libro: \n– il 25 giugno ore 18:30\, Mondadori Bologna\, in diretta FB \n– il 2 luglio ore 18\, Biblos Gallarate\, in diretta FB \n– il 9 luglio ore 18\, Mondadori Salerno La Fabbrica\, in diretta FB \nLink allo store \nhttps://www.mondadoristore.it/Breve-corso-funambolismo-chi-Andrea-Loreni-Lara-Giorcelli/eai978883570175/
URL:https://ilfunambolo.com/evento/presentazione-libro-mondadori-bologna-in-diretta-fb/
LOCATION:Bologna (Facebook)
CATEGORIES:Eventi
ATTACH;FMTTYPE=image/jpeg:https://ilfunambolo.com/wp-content/uploads/2020/06/cover_Loreni_Breve-corso-di-funambolismo.jpg
END:VEVENT
END:VCALENDAR