BEGIN:VCALENDAR
VERSION:2.0
PRODID:-//Zen e Funambolismo - ECPv6.0.3//NONSGML v1.0//EN
CALSCALE:GREGORIAN
METHOD:PUBLISH
X-ORIGINAL-URL:https://ilfunambolo.com
X-WR-CALDESC:Eventi per Zen e Funambolismo
REFRESH-INTERVAL;VALUE=DURATION:PT1H
X-Robots-Tag:noindex
X-PUBLISHED-TTL:PT1H
BEGIN:VTIMEZONE
TZID:Europe/Rome
BEGIN:DAYLIGHT
TZOFFSETFROM:+0100
TZOFFSETTO:+0200
TZNAME:CEST
DTSTART:20220327T010000
END:DAYLIGHT
BEGIN:STANDARD
TZOFFSETFROM:+0200
TZOFFSETTO:+0100
TZNAME:CET
DTSTART:20221030T010000
END:STANDARD
BEGIN:DAYLIGHT
TZOFFSETFROM:+0100
TZOFFSETTO:+0200
TZNAME:CEST
DTSTART:20230326T010000
END:DAYLIGHT
BEGIN:STANDARD
TZOFFSETFROM:+0200
TZOFFSETTO:+0100
TZNAME:CET
DTSTART:20231029T010000
END:STANDARD
BEGIN:DAYLIGHT
TZOFFSETFROM:+0100
TZOFFSETTO:+0200
TZNAME:CEST
DTSTART:20240331T010000
END:DAYLIGHT
BEGIN:STANDARD
TZOFFSETFROM:+0200
TZOFFSETTO:+0100
TZNAME:CET
DTSTART:20241027T010000
END:STANDARD
END:VTIMEZONE
BEGIN:VEVENT
DTSTART;TZID=Europe/Rome:20221008T080000
DTEND;TZID=Europe/Rome:20221009T170000
DTSTAMP:20260420T215410
CREATED:20220617T133835Z
LAST-MODIFIED:20220617T133835Z
UID:15497-1665216000-1665334800@ilfunambolo.com
SUMMARY:Laboratori di funambolismo a Druento
DESCRIPTION:Torna l’appuntamento di formazione con il funambolo Andrea Loreni\, per imparare a gestire l’equilibrio\, il disequilibrio\, per prendere confidenza con l’altezza e il cavo teso. Tanti gli esercizi per sviluppare consapevolezza nel corpo e gentilezza nel gesto. \nLe date per allenarsi sul cavo\, per chi vuole ritrovare equilibrio e forma fisica\, ma anche benessere e concentrazione\, cercando di dare un nuovo significato alla performance funambolica sono l’8 e il 9 ottobre 2022. Una due giorni sul cavo alla scoperta dell’equilibrio come strumento di crescita. \nIl laboratorio  \nDue giorni di laboratorio\,  condotto da Andrea Loreni per approfondire la postura del funambolo sul cavo e nei suoi significati oltre il cavo. Si tratta di una pratica intensiva di funambolismo\, con approfondimento sull’utilizzo del bilanciere\, e con la possibilità di camminare su un cavo lungo 70 metri e uno alto 2 metri con longia dall’alto. Oltre all’allenamento fisico e alla performance\, l’obiettivo del laboratorio è anche quello di risignificare e rielaborare l’esperienza per fare della postura del funambolo uno strumento di crescita personale. \nIn occasione di questo laboratorio\, Andrea Loreni è affiancato da Claudia Conti\, formatrice regionale FGI (federazione acrobatica Italia) e specializzanda in Ginnastica Bothmer\, metodo elaborato dal conte Friz von Bothmer su richiesta di Rudolf Steiner per le scuole Waldorf. Si tratta di una formazione al movimento basata sulla sintonia tra la figura umana\, le sue funzionalità elementari e le dimensioni dello spazio\, che apre alla possibilità di una cooperazione tra fisicità\, spazialità e sfera spirituale. L’obiettivo è esplorare in modo armonico le tre dimensioni frontale\, sagittale ed orizzontale e le loro metamorfosi\, approfondendo la possibilità di acquisire equilibrio e sicurezza vitale nello spazio per poi trasferire questa sensibilità sul cavo.  \nA chi si rivolge \nLa due giorni si rivolge sia a chi ha già dimestichezza con cavo e vuole approfondirne alcuni aspetti personali così come a chi vuole approcciarsi a questa disciplina per riportare le competenze acquisite in altri campi quali ad esempio sport\, lavoro\, arti performative. \nInfo pratiche \nLa location che ospita i laboratori è la splendida Cascina Cortese a Druento\, immersa nel verde\, e che già aveva ospitato i laboratori del funambolo. \nÈ possibile arrivare in struttura già il venerdì 7 ottobre dalle ore 17. Ad accogliere gli ospiti in serata è previsto un coinvolgente concerto e momento di condivisione. \nCosti \n\nlaboratorio: 240€ incluso di laboratorio\, due pranzi\, utilizzo della struttura ricettiva e del materiale tecnico\, concerto del venerdì sera;\npernottamento in B&B con prima colazione: 30€ a notte (max 9 posti). Posto tenda/camper: 15€ a notte. Per prenotazioni contattare direttamente Cascina Cortese;\npasti: pranzo di sabato e domenica inclusi nell’iscrizione\, Venerdì cena condivisa vegetariana (ognuno porta qualcosa); per il sabato cena a domicilio alla carta;\ncolazione: bevanda calda e brioches a 2€ (da prenotare in anticipo);\n\nPACCHETTO EARLY BIRD: iscrizioni entro il 31 agosto : 220 euro invece che 240\, incluso di laboratorio\, due pranzi\, utilizzo della struttura ricettiva e del materiale tecnico\, concerto del venerdì sera. \nTERMINE ULTIMO PER L’ISCRIZIONE: 26 settembre \nInfo e Iscrizioni:*\nwirescrosseditalia@ilfunambolo.com \nRecapiti B&B Cascina Cortese per prenotazione: cascinacortese29@gmail.com – 328 123 7015
URL:https://ilfunambolo.com/evento/laboratori-di-funambolismo-a-druento-4/
LOCATION:Druento
CATEGORIES:Eventi
ATTACH;FMTTYPE=image/jpeg:https://ilfunambolo.com/wp-content/uploads/2022/06/funamboloDruento_web.jpg
END:VEVENT
BEGIN:VEVENT
DTSTART;TZID=Europe/Rome:20221014T183000
DTEND;TZID=Europe/Rome:20221014T203000
DTSTAMP:20260420T215410
CREATED:20221011T081229Z
LAST-MODIFIED:20221011T081329Z
UID:18327-1665772200-1665779400@ilfunambolo.com
SUMMARY:Andrea Loreni e Don Paolo Scquizzato al Circolo dei lettori
DESCRIPTION:Clicca qui per saperne di più \nhttps://ilfunambolo.com/andrea-loreni-e-don-paolo-scquizzato-al-circolo-dei-lettori/
URL:https://ilfunambolo.com/evento/18327/
LOCATION:Circolo dei Lettori Torino
CATEGORIES:Eventi
ATTACH;FMTTYPE=image/jpeg:https://ilfunambolo.com/wp-content/uploads/2020/06/44funambolo_photogallery.jpg
END:VEVENT
BEGIN:VEVENT
DTSTART;TZID=Europe/Rome:20221118T080000
DTEND;TZID=Europe/Rome:20221120T170000
DTSTAMP:20260420T215410
CREATED:20220930T160013Z
LAST-MODIFIED:20220930T160138Z
UID:18153-1668758400-1668963600@ilfunambolo.com
SUMMARY:Learning Machine
DESCRIPTION:Clicca qui per saperne di più
URL:https://ilfunambolo.com/evento/learning-machine/
LOCATION:La camminata sopra le risaie biologiche di Rovasenda (VC)
CATEGORIES:Eventi
ATTACH;FMTTYPE=image/jpeg:https://ilfunambolo.com/wp-content/uploads/2022/09/funambolo_LM.jpg
END:VEVENT
BEGIN:VEVENT
DTSTART;TZID=Europe/Rome:20221202T080000
DTEND;TZID=Europe/Rome:20221204T170000
DTSTAMP:20260420T215410
CREATED:20220930T160333Z
LAST-MODIFIED:20220930T160425Z
UID:18159-1669968000-1670173200@ilfunambolo.com
SUMMARY:Learning Machine
DESCRIPTION:Clicca qui per saperne di più
URL:https://ilfunambolo.com/evento/learning-machine-2/
LOCATION:La camminata sopra le risaie biologiche di Rovasenda (VC)
CATEGORIES:Eventi
ATTACH;FMTTYPE=image/jpeg:https://ilfunambolo.com/wp-content/uploads/2022/09/funambolo_LM.jpg
END:VEVENT
BEGIN:VEVENT
DTSTART;TZID=Europe/Rome:20221216T080000
DTEND;TZID=Europe/Rome:20221218T170000
DTSTAMP:20260420T215410
CREATED:20220930T160531Z
LAST-MODIFIED:20220930T160805Z
UID:18163-1671177600-1671382800@ilfunambolo.com
SUMMARY:Learning Machine
DESCRIPTION:Clicca qui per saperne di più
URL:https://ilfunambolo.com/evento/learning-machine-3/
LOCATION:La camminata sopra le risaie biologiche di Rovasenda (VC)
CATEGORIES:Eventi
ATTACH;FMTTYPE=image/jpeg:https://ilfunambolo.com/wp-content/uploads/2022/09/funambolo_LM.jpg
END:VEVENT
BEGIN:VEVENT
DTSTART;TZID=Europe/Rome:20230526T200000
DTEND;TZID=Europe/Rome:20230526T220000
DTSTAMP:20260420T215410
CREATED:20230412T090743Z
LAST-MODIFIED:20230412T090743Z
UID:21881-1685131200-1685138400@ilfunambolo.com
SUMMARY:Camminata Meravigliosa tra i grattacieli di Milano
DESCRIPTION:Clicca qui per i dettagli
URL:https://ilfunambolo.com/evento/camminata-meravigliosa-tra-i-grattacieli-di-milano/
LOCATION:Milano\, Italia
CATEGORIES:Eventi
ATTACH;FMTTYPE=image/jpeg:https://ilfunambolo.com/wp-content/uploads/2023/04/flyerbam.jpeg
END:VEVENT
BEGIN:VEVENT
DTSTART;TZID=Europe/Rome:20230610T100000
DTEND;TZID=Europe/Rome:20230611T180000
DTSTAMP:20260420T215410
CREATED:20230412T093241Z
LAST-MODIFIED:20230412T093256Z
UID:21902-1686391200-1686506400@ilfunambolo.com
SUMMARY:Laboratorio di funambolismo a Druento
DESCRIPTION:Clicca qui per i dettagli
URL:https://ilfunambolo.com/evento/laboratorio-di-funambolismo-a-druento/
LOCATION:Druento
CATEGORIES:Eventi
ATTACH;FMTTYPE=image/jpeg:https://ilfunambolo.com/wp-content/uploads/2023/04/ilfunambolo_druento04.jpg
END:VEVENT
BEGIN:VEVENT
DTSTART;TZID=Europe/Rome:20230722T180000
DTEND;TZID=Europe/Rome:20230722T230000
DTSTAMP:20260420T215410
CREATED:20230717T070920Z
LAST-MODIFIED:20230717T070920Z
UID:22884-1690048800-1690066800@ilfunambolo.com
SUMMARY:IL FUNAMBOLO ANDREA LORENI CAMMINA SOPRA LA DIGA DI RIDRACOLI 
DESCRIPTION:Leggi la notizia qui: https://ilfunambolo.com/il-funambolo-andrea-loreni-cammina-sopra-la-diga-di-ridracoli/
URL:https://ilfunambolo.com/evento/il-funambolo-andrea-loreni-cammina-sopra-la-diga-di-ridracoli/
LOCATION:Diga di Ridracoli\, Italia
CATEGORIES:Eventi
ATTACH;FMTTYPE=image/jpeg:https://ilfunambolo.com/wp-content/uploads/2023/07/funambolo_diga_traversata.jpg
END:VEVENT
BEGIN:VEVENT
DTSTART;TZID=Europe/Rome:20240517T170000
DTEND;TZID=Europe/Rome:20240519T170000
DTSTAMP:20260420T215410
CREATED:20240329T093401Z
LAST-MODIFIED:20240329T093538Z
UID:27090-1715965200-1716138000@ilfunambolo.com
SUMMARY:Laboratori di funambolismo a Druento
DESCRIPTION:Tutte le info qui: \nLABORATORIO a DRUENTO maggio 2024
URL:https://ilfunambolo.com/evento/laboratori-di-funambolismo-a-druento-5/
LOCATION:Druento
CATEGORIES:Eventi
ATTACH;FMTTYPE=image/jpeg:https://ilfunambolo.com/wp-content/uploads/2024/03/lab-cordarossa.jpg
END:VEVENT
END:VCALENDAR