BEGIN:VCALENDAR
VERSION:2.0
PRODID:-//Zen e Funambolismo - ECPv6.0.3//NONSGML v1.0//EN
CALSCALE:GREGORIAN
METHOD:PUBLISH
X-ORIGINAL-URL:https://ilfunambolo.com/?lang=en
X-WR-CALDESC:Events for Zen e Funambolismo
REFRESH-INTERVAL;VALUE=DURATION:PT1H
X-Robots-Tag:noindex
X-PUBLISHED-TTL:PT1H
BEGIN:VTIMEZONE
TZID:Europe/Rome
BEGIN:DAYLIGHT
TZOFFSETFROM:+0100
TZOFFSETTO:+0200
TZNAME:CEST
DTSTART:20220327T010000
END:DAYLIGHT
BEGIN:STANDARD
TZOFFSETFROM:+0200
TZOFFSETTO:+0100
TZNAME:CET
DTSTART:20221030T010000
END:STANDARD
END:VTIMEZONE
BEGIN:VEVENT
DTSTART;TZID=Europe/Rome:20220924T100000
DTEND;TZID=Europe/Rome:20220924T130000
DTSTAMP:20260424T231345
CREATED:20220919T082313Z
LAST-MODIFIED:20220919T082313Z
UID:17965-1664013600-1664024400@ilfunambolo.com
SUMMARY:Interferenze\, luoghi di corto circuito dove la cultura ‘cura’
DESCRIPTION:Le difficoltà e\, spesso\, le malattie che l’invecchiamento comporta come possono essere capite e condivise come comunità? Si può fare esperienza del disorientamento\, del senso di perdita provato da chi inizia a soffrire di demenze e disturbi cognitivi e dai suoi familiari? Quali strumenti abbiamo per farvi fronte? Il welfare culturale e le interferenze che si creano tra cultura e salute possono contribuire a una cultura della cura. \nDal 15 al 24 settembre in Valle d’Aosta\, Interferenze\, luoghi di corto circuito dove la cultura ‘cura’ è una manifestazione dedicata ai temi dell’invecchiamento\, che offre occasioni di incontro e scambio di punti di vista per promuovere il significato e i gesti del prendersi cura e l’attenzione per l’inclusione. \nSabato 24 settembre presso il Centro delle Famiglie\, viale Chabod 9 – Aosta\, dalle 10 alle 13 Andrea Loreni è ospite di CAREGIVER DAY\, un intervento di welfare culturale a cura della \nCooperativa sociale Il Margine\, ideato dal funambolo insieme a Cristina Rositano\, Alessandro \nFusaro e Federica Siciliano. \nUn doppio laboratorio\, dedicato ai beneficiari del Progetto Pro.sol Senior. Da un lato\, i partecipanti delle Palestre per la Mente svolgeranno un’attività di stimolazione cognitiva attraverso l’affettività; dall’altro\, i loro familiari-caregivers saranno invitati a prendersi cura di sé\, a dedicare del tempo a loro stessi\, attraverso le pratiche Mindfulness di gestione dell’ ansia e dello stress e mediante le suggestioni derivanti dal mondo delle arti performative-circensi. \nInsieme ad Andrea: Cristina Rositano\, neuropsicologa e psicoterapeuta\, istruttrice di Mindfulness e MBSR prot.\, è referente clinica del progetto Pro.Sol-Senior per la Cooperativa sociale Il Margine. Alessandro Fusaro\, neuropsicologo e psicoanalista\, è formatore e supervisore clinico nell’ambito del progetto Pro.Sol-Senior per la Cooperativa sociale Il Margine. Federica Siciliano è terapista occupazionale nel progetto Pro.Sol-Senior per la Cooperativa sociale Il Margine. \nInterferenze è organizzato dall’Azienda USL Valle d’Aosta come soggetto attuatore nell’ambito di Pro.Sol “Senior”\, un progetto che fa parte del programma europeo di coooperazione transfrontaliera Alcotra Interreg che coinvolge partner italiani e francesi (Provence Alpes Agglomération\, Regione Piemonte\, Regione Valle d’Aosta\, Regione Liguria\, ASL Cuneo 1\, Métropole Nice Côte d’A- \nzur e Comité regional ADMR PACA-CORSE).
URL:https://ilfunambolo.com/evento/interferenze-luoghi-di-corto-circuito-dove-la-cultura-cura/?lang=en
LOCATION:Aosta
CATEGORIES:Events
ATTACH;FMTTYPE=image/jpeg:https://ilfunambolo.com/wp-content/uploads/2022/09/interferenze.jpeg
END:VEVENT
END:VCALENDAR