BEGIN:VCALENDAR
VERSION:2.0
PRODID:-//Zen e Funambolismo - ECPv6.0.3//NONSGML v1.0//EN
CALSCALE:GREGORIAN
METHOD:PUBLISH
X-WR-CALNAME:Zen e Funambolismo
X-ORIGINAL-URL:https://ilfunambolo.com/?lang=en
X-WR-CALDESC:Events for Zen e Funambolismo
REFRESH-INTERVAL;VALUE=DURATION:PT1H
X-Robots-Tag:noindex
X-PUBLISHED-TTL:PT1H
BEGIN:VTIMEZONE
TZID:Europe/Rome
BEGIN:DAYLIGHT
TZOFFSETFROM:+0100
TZOFFSETTO:+0200
TZNAME:CEST
DTSTART:20220327T010000
END:DAYLIGHT
BEGIN:STANDARD
TZOFFSETFROM:+0200
TZOFFSETTO:+0100
TZNAME:CET
DTSTART:20221030T010000
END:STANDARD
END:VTIMEZONE
BEGIN:VEVENT
DTSTART;TZID=Europe/Rome:20220903T193000
DTEND;TZID=Europe/Rome:20220903T210000
DTSTAMP:20260424T231256
CREATED:20220829T090242Z
LAST-MODIFIED:20220829T090356Z
UID:17515-1662233400-1662238800@ilfunambolo.com
SUMMARY:Camminata a San Severino Lucano
DESCRIPTION:Tutti e tutte a testa in su\, con gli occhi al cielo\, per seguire con lo sguardo i passi del funambolo Andrea Loreni\, unico in Italia a camminare su cavi a grandi altezze. \nL’appuntamento è per sabato 3 settembre alle ore 19.30 (in caso di maltempo la traversata è rinviata a domenica 4) nel centro di San Severino Lucano PZ\, e rientra nel programma arte@parte.  \nIl funambolo camminerà su un cavo illuminato a LED\, partendo dalla Chiesa di San Vincenzo: un cavo lungo 60 metri circa\, a 20 metri di altezza. \nLa traversata di Andrea Loreni inaugura un ciclo di appuntamenti dedicati al cammino come arte. Il programma\, curato dall’associazione ArtePollino\, è sostenuto dalla Regione Basilicata.  \n“Per noi è un onore e un piacere ospitare un evento di tale portata – afferma il Sindaco di San Severino Lucano Franco Fiore – abbiamo accolto subito la proposta di ospitare lo spettacolo del funambolo Andrea Loreni\, sia per la performance in sé sia per l’unicità artistica di Loreni che camminerà sotto il nostro cielo così come ha fatto in Svizzera\, Serbia e in tantissime altre città italiane e straniere. Lo attendiamo con enorme piacere”\, conclude Fiore.  \nAndrea Loreni\, prima della performance\, risiederà alcuni giorni a San Severino Lucano insieme al suo team ed entrerà in contatto con il luogo e con gli abitanti.  \n 
URL:https://ilfunambolo.com/evento/camminata-a-san-severino-lucano/?lang=en
LOCATION:San Severino Lucano
CATEGORIES:Events
ATTACH;FMTTYPE=image/jpeg:https://ilfunambolo.com/wp-content/uploads/2022/08/funamboloBasilicataLoreni.jpeg
END:VEVENT
END:VCALENDAR