BEGIN:VCALENDAR
VERSION:2.0
PRODID:-//Zen e Funambolismo - ECPv6.0.3//NONSGML v1.0//EN
CALSCALE:GREGORIAN
METHOD:PUBLISH
X-WR-CALNAME:Zen e Funambolismo
X-ORIGINAL-URL:https://ilfunambolo.com/?lang=en
X-WR-CALDESC:Events for Zen e Funambolismo
REFRESH-INTERVAL;VALUE=DURATION:PT1H
X-Robots-Tag:noindex
X-PUBLISHED-TTL:PT1H
BEGIN:VTIMEZONE
TZID:Europe/Rome
BEGIN:DAYLIGHT
TZOFFSETFROM:+0100
TZOFFSETTO:+0200
TZNAME:CEST
DTSTART:20220327T010000
END:DAYLIGHT
BEGIN:STANDARD
TZOFFSETFROM:+0200
TZOFFSETTO:+0100
TZNAME:CET
DTSTART:20221030T010000
END:STANDARD
END:VTIMEZONE
BEGIN:VEVENT
DTSTART;TZID=Europe/Rome:20220731T110000
DTEND;TZID=Europe/Rome:20220731T130000
DTSTAMP:20260425T014753
CREATED:20220711T153049Z
LAST-MODIFIED:20220711T153049Z
UID:16282-1659265200-1659272400@ilfunambolo.com
SUMMARY:Camminare su una zipline a 300 metri di altezza per 350 metri di lunghezza
DESCRIPTION:L’appuntamento è per il 31 luglio 2022 alle ore 11 a Frassinetto (TO). Per la prima volta in Italia il funambolo Andrea Loreni tenta una camminata funambolica su una zipline. Numeri da capogiro per questa camminata nel cielo: il funambolo percorre il cavo ad un’altezza di 300 metri per una distanza di oltre 320 metri\, per superare il suo attuale record personale\, raggiunto la scorsa estate con la traversata sul lago di Ceresole Reale.\n\n \n\nUn evento straordinario e unico\, una sfida tecnica che vede il funambolo e la sua squadra impegnati da settimane tra le montagne di Frassinetto in provincia di Torino.\n\n \n\nIl cavo su cui Loreni cammina è una spettacolare zipline ludica ricreativa\, già utilizzata per il Volo dell’arcobaleno\, lunga 1800 metri con una distanza massima tra fune e terra di circa 400 metri  e un dislivello tra partenza e  arrivo di circa 260 metri.\n\n \n\nPer compiere l’impresa\, il funambolo deve affidarsi al peso dei tecnici della sua squadra che appesi al cavo\, avanti e dietro di lui\, stabilizzeranno il cammino.\n\n \n\nA seguire il funambolo Andrea Loreni incontra il pubblico.\n\n \n\nL’evento\, realizzato in collaborazione con Arcansel e Circowow\, ha luogo il 31 luglio 2022. Alle ore 11 la traversata di Andrea Loreni. Sono sponsor tecnici della traversata Cébé\, Sneaker sportwear\, Rock exotica.
URL:https://ilfunambolo.com/evento/camminare-su-una-zipline-a-300-metri-di-altezza-per-350-metri-di-lunghezza/?lang=en
LOCATION:Frassineto
CATEGORIES:Events
ATTACH;FMTTYPE=image/jpeg:https://ilfunambolo.com/wp-content/uploads/2022/07/funambolo_frassineto.jpg
END:VEVENT
END:VCALENDAR