BEGIN:VCALENDAR
VERSION:2.0
PRODID:-//Zen e Funambolismo - ECPv6.0.3//NONSGML v1.0//EN
CALSCALE:GREGORIAN
METHOD:PUBLISH
X-WR-CALNAME:Zen e Funambolismo
X-ORIGINAL-URL:https://ilfunambolo.com/?lang=en
X-WR-CALDESC:Events for Zen e Funambolismo
REFRESH-INTERVAL;VALUE=DURATION:PT1H
X-Robots-Tag:noindex
X-PUBLISHED-TTL:PT1H
BEGIN:VTIMEZONE
TZID:Europe/Rome
BEGIN:DAYLIGHT
TZOFFSETFROM:+0100
TZOFFSETTO:+0200
TZNAME:CEST
DTSTART:20220327T010000
END:DAYLIGHT
BEGIN:STANDARD
TZOFFSETFROM:+0200
TZOFFSETTO:+0100
TZNAME:CET
DTSTART:20221030T010000
END:STANDARD
END:VTIMEZONE
BEGIN:VEVENT
DTSTART;TZID=Europe/Rome:20220716T133000
DTEND;TZID=Europe/Rome:20220716T183000
DTSTAMP:20260425T014753
CREATED:20220706T155323Z
LAST-MODIFIED:20220706T155422Z
UID:16094-1657978200-1657996200@ilfunambolo.com
SUMMARY:Traversata collettiva di Galway
DESCRIPTION:Appuntamento incredibile il 16 luglio per una traversata collettiva lunga cinque ore. Andrea Loreni sarà presente a Galway con i suoi allievi\, unico gruppo dall’Italia. \n\n\n\nLifeLine è il più grande spettacolo di funambolismo d’Europa. In programma la traversata sul fiume Corrib eseguita da 3 professionisti europei\, e una traversata collettiva sul bacino di Claddagh nella città di Galway. In scena Andrea Loreni insieme a Oliver Zimmerman e Ellis Grover su 3 cavi che attraversano il fiume e 150 persone tra studenti e community\, di ogni età e provenienza\, che attraverseranno il bacino. Alla traversata collettiva partecipano anche due allievi di Andrea\, unici italiani. \n\n\n\nUna straordinaria dimostrazione di forza e resilienza\, di collaborazione e condivisione\, su uno dei corsi d’acqua più iconici d’Irlanda. \n\n\n\n“Questa traversata ha un altro significato\, che va oltre l’impresa. Vuole risignificare un luogo\, quello del ponte sul fiume di Galway\, famoso per l’elevato numero di suicidi. Quindi il vuoto di questa traversata\, carico della negatività della caduta e della perdita\, diventa con questo atto funambolico condiviso un vuoto e un attraversamento di rinascita e rinnovamento”. \n\n\n\nLifeLine si svolgerà presso il Claddagh Basin nella città di Galway il 16 luglio 2022\, dalle 13:30 alle 18:30. \n\n\n\nLifeLine fa anche parte del programma del Galway International Arts Festival 2022. \n\n\n\nPer avere info e seguire l’evento: \n\n\n\nwww.galwaycommunitycircus.com/lifeline/lifeline \n\n\n\nFacebook: @GalwayCommunityCircus \n\n\n\nInstagram: @galwaycircus \n\n\n\nTwitter: @galwaycircus \n\n\n\nLinkedIn: https://www.linkedin.com/company/galway-community-circus
URL:https://ilfunambolo.com/evento/traversata-collettiva-di-galway/?lang=en
LOCATION:Galway\, Irlanda
CATEGORIES:Events
ATTACH;FMTTYPE=image/jpeg:https://ilfunambolo.com/wp-content/uploads/2022/07/galway.jpg
END:VEVENT
END:VCALENDAR