BEGIN:VCALENDAR
VERSION:2.0
PRODID:-//Zen e Funambolismo - ECPv6.0.3//NONSGML v1.0//EN
CALSCALE:GREGORIAN
METHOD:PUBLISH
X-ORIGINAL-URL:https://ilfunambolo.com
X-WR-CALDESC:Eventi per Zen e Funambolismo
REFRESH-INTERVAL;VALUE=DURATION:PT1H
X-Robots-Tag:noindex
X-PUBLISHED-TTL:PT1H
BEGIN:VTIMEZONE
TZID:Europe/Rome
BEGIN:DAYLIGHT
TZOFFSETFROM:+0100
TZOFFSETTO:+0200
TZNAME:CEST
DTSTART:20210328T010000
END:DAYLIGHT
BEGIN:STANDARD
TZOFFSETFROM:+0200
TZOFFSETTO:+0100
TZNAME:CET
DTSTART:20211031T010000
END:STANDARD
END:VTIMEZONE
BEGIN:VEVENT
DTSTART;TZID=Europe/Rome:20210918T220000
DTEND;TZID=Europe/Rome:20210918T230000
DTSTAMP:20260421T013005
CREATED:20210908T100448Z
LAST-MODIFIED:20210908T100448Z
UID:9818-1632002400-1632006000@ilfunambolo.com
SUMMARY:A Gualtieri grande traversata sul filo da Palazzo Bentivoglio alla Torre Civica
DESCRIPTION:“Che c’è mai di così importante questa sera? […] il Funambolista […] proprio nella piazza del Gran Turco stavano allestendo preparativi per un tale che avrebbe attraversato su un filo la piazzetta stessa a un’altezza di venti metri circa”.  \nSilvio D’Arzo\, All’insegna del Buon Corsiero \n  \nGualtieri\, in provincia di Reggio Emilia\, in occasione della sesta edizione di “Viaggio a Gualtieri” (rassegna culturale di spettacoli\, concerti\, proiezioni\, aperture straordinarie\, visite guidate\, enogastronomia) si prepara per un evento straordinario. Il 18 settembre alle ore 22 Andrea Loreni compirà una traversata su una cavo sopra Piazza Bentivoglio\, dal Salone dei Giganti sino all’orologio della Torre Civica: 100 metri di cammino nell’aria\, fino a 20 metri di altezza. Andata e ritorno a segnare una via dove nessuno avrebbe mai pensato ce ne potesse essere una.  \nIl funambolo\, il suo bilanciere\, il cavo di acciaio teso sull’abisso a creare un sottile suolo ad altezze vertiginose\, sono il simbolo del comune cammino umano. Un azzardo straordinario. Un atto di bellezza pura ed estrema\, capace di valorizzare la monumentale meraviglia di Piazza Bentivoglio. \n  \nAd accompagnare l’impresa di Andrea Loreni\, l’attore e regista Silvio Castiglioni leggerà brani tratti dal romanzo All’insegna del Buon Corsiero di Silvio D’Arzo\, dedicato alla misteriosa figura di un funambolo nell’Emilia del ‘700.  \n  \nL’evento è offerto dal Comune di Gualtieri nel contesto di Viaggio a Gualtieri 2021\, con la collaborazione organizzativa di Teatro Sociale di Gualtieri e del Festival Tutti Matti per Colorno. \n  \n  \ndove Piazza Bentivoglio \ndurata 40 minuti circa \npartecipare evento con ingresso a offerta libera / prenotazione obbligatoria \nprenotazioni www.viaggioagualtieri.it/prenotazioni / tel. 3291356183 (lun-ven dalle 18.00 alle 20.00) \nattenzione in caso di maltempo lo spettacolo verrà posticipato a domenica 19 settembre alle ore 20.00 \ninfo Teatro Sociale di Gualtieri 329-1356183 / www.teatrosocialegualtieri.it
URL:https://ilfunambolo.com/evento/a-gualtieri-grande-traversata-sul-filo-da-palazzo-bentivoglio-alla-torre-civica/
LOCATION:Gualtieri\, Piazza Bentivolgio\, Gualtieri\, Italia
CATEGORIES:Eventi
ATTACH;FMTTYPE=image/jpeg:https://ilfunambolo.com/wp-content/uploads/2021/09/piazza-bentivoglio-foto-parmiggiani.jpeg
END:VEVENT
END:VCALENDAR